BEGIN:VCALENDAR
VERSION:2.0
PRODID:-//ASHLAND JAZZ - ECPv6.15.20//NONSGML v1.0//EN
CALSCALE:GREGORIAN
METHOD:PUBLISH
X-WR-CALNAME:ASHLAND JAZZ
X-ORIGINAL-URL:https://www.ashlandjazz.com
X-WR-CALDESC:Events for ASHLAND JAZZ
REFRESH-INTERVAL;VALUE=DURATION:PT1H
X-Robots-Tag:noindex
X-PUBLISHED-TTL:PT1H
BEGIN:VTIMEZONE
TZID:America/Los_Angeles
BEGIN:DAYLIGHT
TZOFFSETFROM:-0800
TZOFFSETTO:-0700
TZNAME:PDT
DTSTART:20250309T100000
END:DAYLIGHT
BEGIN:STANDARD
TZOFFSETFROM:-0700
TZOFFSETTO:-0800
TZNAME:PST
DTSTART:20251102T090000
END:STANDARD
BEGIN:DAYLIGHT
TZOFFSETFROM:-0800
TZOFFSETTO:-0700
TZNAME:PDT
DTSTART:20260308T100000
END:DAYLIGHT
BEGIN:STANDARD
TZOFFSETFROM:-0700
TZOFFSETTO:-0800
TZNAME:PST
DTSTART:20261101T090000
END:STANDARD
BEGIN:DAYLIGHT
TZOFFSETFROM:-0800
TZOFFSETTO:-0700
TZNAME:PDT
DTSTART:20270314T100000
END:DAYLIGHT
BEGIN:STANDARD
TZOFFSETFROM:-0700
TZOFFSETTO:-0800
TZNAME:PST
DTSTART:20271107T090000
END:STANDARD
END:VTIMEZONE
BEGIN:VEVENT
DTSTART;TZID=America/Los_Angeles:20260423T173000
DTEND;TZID=America/Los_Angeles:20260423T193000
DTSTAMP:20260419T064958
CREATED:20260112T173752Z
LAST-MODIFIED:20260322T214541Z
UID:560-1776965400-1776972600@www.ashlandjazz.com
SUMMARY:TRES PALOMAS
DESCRIPTION:Tres Palomas plays Bossa Nova and international classics.
URL:https://www.ashlandjazz.com/event/tres-palomas-2026-04-23/
LOCATION:Belle Fiore Winery\, 100 Belle Fiore Lane\, Ashland\, OR\, 97520\, United States
ATTACH;FMTTYPE=image/jpeg:https://www.ashlandjazz.com/wp-content/uploads/2026/01/IMG_4571-1.jpeg
END:VEVENT
BEGIN:VEVENT
DTSTART;TZID=America/Los_Angeles:20260425T173000
DTEND;TZID=America/Los_Angeles:20260425T193000
DTSTAMP:20260419T064958
CREATED:20260313T180704Z
LAST-MODIFIED:20260313T180704Z
UID:622-1777138200-1777145400@www.ashlandjazz.com
SUMMARY:TRES PALOMAS
DESCRIPTION:Tres Palomas plays Bossa Nova and international classics.
URL:https://www.ashlandjazz.com/event/tres-palomas-2026-04-25/
LOCATION:The Miners’ Bazaar\, 235 E California Street\, Jacksonville\, OR\, 97530\, United States
ATTACH;FMTTYPE=image/jpeg:https://www.ashlandjazz.com/wp-content/uploads/2026/01/IMG_4571-1.jpeg
END:VEVENT
BEGIN:VEVENT
DTSTART;TZID=America/Los_Angeles:20260503T160000
DTEND;TZID=America/Los_Angeles:20260503T180000
DTSTAMP:20260419T064958
CREATED:20251116T044930Z
LAST-MODIFIED:20260303T005402Z
UID:538-1777824000-1777831200@www.ashlandjazz.com
SUMMARY:TRES PALOMAS
DESCRIPTION:Tres Palomas plays Bossa Nova and international classics.
URL:https://www.ashlandjazz.com/event/tres-palomas-2026-05-03/
LOCATION:RoxyAnn Winery\, 3283 Hillcrest Road\, Medford\, OR\, 97504
ATTACH;FMTTYPE=image/jpeg:https://www.ashlandjazz.com/wp-content/uploads/2026/01/IMG_4571-1.jpeg
END:VEVENT
BEGIN:VEVENT
DTSTART;TZID=America/Los_Angeles:20260509T173000
DTEND;TZID=America/Los_Angeles:20260509T193000
DTSTAMP:20260419T064958
CREATED:20251205T213532Z
LAST-MODIFIED:20260331T234625Z
UID:548-1778347800-1778355000@www.ashlandjazz.com
SUMMARY:TRES PALOMAS
DESCRIPTION:Tres Palomas plays Bossa Nova and international classics. (Guest: Tim Kelly on bass)
URL:https://www.ashlandjazz.com/event/tres-palomas-2026-05-09/
LOCATION:Dunbar Farms\, 2881 Hillcrest Road\, Medford\, OR\, 97504\, United States
ATTACH;FMTTYPE=image/jpeg:https://www.ashlandjazz.com/wp-content/uploads/2026/01/IMG_4571-1.jpeg
END:VEVENT
BEGIN:VEVENT
DTSTART;TZID=America/Los_Angeles:20260510T180000
DTEND;TZID=America/Los_Angeles:20260510T200000
DTSTAMP:20260419T064958
CREATED:20260128T005801Z
LAST-MODIFIED:20260331T000044Z
UID:576-1778436000-1778443200@www.ashlandjazz.com
SUMMARY:TRES PALOMAS (Reservations Required)
DESCRIPTION:Tres Palomas plays Bossa Nova and international classics. (Guest: Steve Fain on bass)
URL:https://www.ashlandjazz.com/event/tres-palomas-2026-05-10/
LOCATION:Butterfly Club 557\, 557 Medford Center\, Medford\, OR\, 97504\, United States
ATTACH;FMTTYPE=image/jpeg:https://www.ashlandjazz.com/wp-content/uploads/2026/01/IMG_4571-1.jpeg
END:VEVENT
BEGIN:VEVENT
DTSTART;TZID=America/Los_Angeles:20260514T180000
DTEND;TZID=America/Los_Angeles:20260514T200000
DTSTAMP:20260419T064958
CREATED:20260413T220805Z
LAST-MODIFIED:20260413T220805Z
UID:652-1778781600-1778788800@www.ashlandjazz.com
SUMMARY:TRES PALOMAS
DESCRIPTION:Tres Palomas plays Bossa Nova and international classics
URL:https://www.ashlandjazz.com/event/tres-palomas-2026-05-14/
LOCATION:Cafe Lumina\, 27 North Main Street\, Ashland\, OR\, 97520
ATTACH;FMTTYPE=image/jpeg:https://www.ashlandjazz.com/wp-content/uploads/2026/01/IMG_4571-1.jpeg
END:VEVENT
BEGIN:VEVENT
DTSTART;TZID=America/Los_Angeles:20260515T180000
DTEND;TZID=America/Los_Angeles:20260515T200000
DTSTAMP:20260419T064958
CREATED:20260116T184013Z
LAST-MODIFIED:20260303T005433Z
UID:562-1778868000-1778875200@www.ashlandjazz.com
SUMMARY:TRES PALOMAS
DESCRIPTION:Tres Palomas plays Bossa Nova and international classics.
URL:https://www.ashlandjazz.com/event/tres-palomas-2026-05-15/
LOCATION:Art Bop Beer Co\, 102 Talent Ave\, Talent\, OR\, 97540
ATTACH;FMTTYPE=image/jpeg:https://www.ashlandjazz.com/wp-content/uploads/2026/01/IMG_4571-1.jpeg
END:VEVENT
BEGIN:VEVENT
DTSTART;TZID=America/Los_Angeles:20260523T103000
DTEND;TZID=America/Los_Angeles:20260523T123000
DTSTAMP:20260419T064958
CREATED:20251202T215807Z
LAST-MODIFIED:20260303T005443Z
UID:545-1779532200-1779539400@www.ashlandjazz.com
SUMMARY:TRES PALOMAS
DESCRIPTION:Tres Palomas plays Bossa Nova and international classics.
URL:https://www.ashlandjazz.com/event/tres-palomas-2026-05-23/
LOCATION:La Baguette\, 340 A Street\, Ashland\, OR\, 97520\, United States
ATTACH;FMTTYPE=image/jpeg:https://www.ashlandjazz.com/wp-content/uploads/2026/01/IMG_4571-1.jpeg
END:VEVENT
BEGIN:VEVENT
DTSTART;TZID=America/Los_Angeles:20260529T173000
DTEND;TZID=America/Los_Angeles:20260529T193000
DTSTAMP:20260419T064958
CREATED:20260409T021659Z
LAST-MODIFIED:20260409T021733Z
UID:645-1780075800-1780083000@www.ashlandjazz.com
SUMMARY:TRES PALOMAS
DESCRIPTION:Tres Palomas plays Bossa Nova and international classics.
URL:https://www.ashlandjazz.com/event/tres-palomas-2026-05-29/
LOCATION:The Miners’ Bazaar\, 235 E California Street\, Jacksonville\, OR\, 97530\, United States
ATTACH;FMTTYPE=image/jpeg:https://www.ashlandjazz.com/wp-content/uploads/2026/01/IMG_4571-1.jpeg
END:VEVENT
BEGIN:VEVENT
DTSTART;TZID=America/Los_Angeles:20260605T180000
DTEND;TZID=America/Los_Angeles:20260605T200000
DTSTAMP:20260419T064958
CREATED:20260402T235247Z
LAST-MODIFIED:20260402T235305Z
UID:640-1780682400-1780689600@www.ashlandjazz.com
SUMMARY:TRES PALOMAS
DESCRIPTION:Tres Palomas plays Bossa Nova and international classics.
URL:https://www.ashlandjazz.com/event/tres-palomas-2026-06-05/
LOCATION:Resistance Wine Company\, 322 Pioneer Street\, Ashland\, OR\, 97520
ATTACH;FMTTYPE=image/jpeg:https://www.ashlandjazz.com/wp-content/uploads/2026/01/IMG_4571-1.jpeg
END:VEVENT
BEGIN:VEVENT
DTSTART;TZID=America/Los_Angeles:20260612T173000
DTEND;TZID=America/Los_Angeles:20260612T193000
DTSTAMP:20260419T064958
CREATED:20260409T022135Z
LAST-MODIFIED:20260409T022207Z
UID:648-1781285400-1781292600@www.ashlandjazz.com
SUMMARY:TRES PALOMAS
DESCRIPTION:Tres Palomas plays Bossa Nova and international classics.
URL:https://www.ashlandjazz.com/event/tres-palomas-2026-06-12/
LOCATION:The Miners’ Bazaar\, 235 E California Street\, Jacksonville\, OR\, 97530\, United States
ATTACH;FMTTYPE=image/jpeg:https://www.ashlandjazz.com/wp-content/uploads/2026/01/IMG_4571-1.jpeg
END:VEVENT
BEGIN:VEVENT
DTSTART;TZID=America/Los_Angeles:20260613T160000
DTEND;TZID=America/Los_Angeles:20260613T180000
DTSTAMP:20260419T064958
CREATED:20260305T230753Z
LAST-MODIFIED:20260305T230753Z
UID:609-1781366400-1781373600@www.ashlandjazz.com
SUMMARY:TRES PALOMAS
DESCRIPTION:Tres Palomas plays Bossa Nova and international classics.
URL:https://www.ashlandjazz.com/event/tres-palomas-2026-06-13/
LOCATION:Dos Mariposas\, 3976 Bellinger Lane\, Medford\, OR\, 97501\, United States
ATTACH;FMTTYPE=image/jpeg:https://www.ashlandjazz.com/wp-content/uploads/2026/01/IMG_4571-1.jpeg
END:VEVENT
BEGIN:VEVENT
DTSTART;TZID=America/Los_Angeles:20260719T160000
DTEND;TZID=America/Los_Angeles:20260719T180000
DTSTAMP:20260419T064958
CREATED:20251116T045045Z
LAST-MODIFIED:20260303T005453Z
UID:540-1784476800-1784484000@www.ashlandjazz.com
SUMMARY:TRES PALOMAS
DESCRIPTION:Tres Palomas plays Bossa Nova and international classics.
URL:https://www.ashlandjazz.com/event/tres-palomas-2026-07-19/
LOCATION:RoxyAnn Winery\, 3283 Hillcrest Road\, Medford\, OR\, 97504
ATTACH;FMTTYPE=image/jpeg:https://www.ashlandjazz.com/wp-content/uploads/2026/01/IMG_4571-1.jpeg
END:VEVENT
BEGIN:VEVENT
DTSTART;TZID=America/Los_Angeles:20260723T173000
DTEND;TZID=America/Los_Angeles:20260723T193000
DTSTAMP:20260419T064958
CREATED:20260311T234940Z
LAST-MODIFIED:20260405T015433Z
UID:617-1784827800-1784835000@www.ashlandjazz.com
SUMMARY:TRES PALOMAS
DESCRIPTION:Tres Palomas plays Bossa Nova and international classics.
URL:https://www.ashlandjazz.com/event/tres-palomas-2026-07-23/
LOCATION:Belle Fiore Winery\, 100 Belle Fiore Lane\, Ashland\, OR\, 97520\, United States
ATTACH;FMTTYPE=image/jpeg:https://www.ashlandjazz.com/wp-content/uploads/2026/01/IMG_4571-1.jpeg
END:VEVENT
BEGIN:VEVENT
DTSTART;TZID=America/Los_Angeles:20260807T173000
DTEND;TZID=America/Los_Angeles:20260807T193000
DTSTAMP:20260419T064958
CREATED:20260311T235331Z
LAST-MODIFIED:20260311T235331Z
UID:619-1786123800-1786131000@www.ashlandjazz.com
SUMMARY:TRES PALOMAS
DESCRIPTION:Tres Palomas plays Bossa Nova and international classics.
URL:https://www.ashlandjazz.com/event/tres-palomas-2026-08-07/
LOCATION:Belle Fiore Winery\, 100 Belle Fiore Lane\, Ashland\, OR\, 97520\, United States
ATTACH;FMTTYPE=image/jpeg:https://www.ashlandjazz.com/wp-content/uploads/2026/01/IMG_4571-1.jpeg
END:VEVENT
BEGIN:VEVENT
DTSTART;TZID=America/Los_Angeles:20260808T173000
DTEND;TZID=America/Los_Angeles:20260808T193000
DTSTAMP:20260419T064958
CREATED:20260320T211858Z
LAST-MODIFIED:20260320T211943Z
UID:626-1786210200-1786217400@www.ashlandjazz.com
SUMMARY:TRES PALOMAS
DESCRIPTION:Tres Palomas plays Bossa Nova and international classics.
URL:https://www.ashlandjazz.com/event/tres-palomas-2026-08-08/
LOCATION:Dunbar Farms\, 2881 Hillcrest Road\, Medford\, OR\, 97504\, United States
ATTACH;FMTTYPE=image/jpeg:https://www.ashlandjazz.com/wp-content/uploads/2026/01/IMG_4571-1.jpeg
END:VEVENT
BEGIN:VEVENT
DTSTART;TZID=America/Los_Angeles:20260823T153000
DTEND;TZID=America/Los_Angeles:20260823T173000
DTSTAMP:20260419T064958
CREATED:20260120T193213Z
LAST-MODIFIED:20260303T005503Z
UID:571-1787499000-1787506200@www.ashlandjazz.com
SUMMARY:TRES PALOMAS
DESCRIPTION:Tres Palomas plays Bossa Nova and international classics.
URL:https://www.ashlandjazz.com/event/tres-palomas-2026-08-23/
LOCATION:Paschal Winery\, 1122 Suncrest Road\, Talent\, OR\, 97540
ATTACH;FMTTYPE=image/jpeg:https://www.ashlandjazz.com/wp-content/uploads/2026/01/IMG_4571-1.jpeg
END:VEVENT
BEGIN:VEVENT
DTSTART;TZID=America/Los_Angeles:20260830T150000
DTEND;TZID=America/Los_Angeles:20260830T170000
DTSTAMP:20260419T064958
CREATED:20260311T024531Z
LAST-MODIFIED:20260311T024531Z
UID:613-1788102000-1788109200@www.ashlandjazz.com
SUMMARY:TRES PALOMAS
DESCRIPTION:Tres Palomas plays Bossa Nova and international classics.
URL:https://www.ashlandjazz.com/event/tres-palomas-2026-08-30/
LOCATION:Del Rio Vinyards\, 52 North River Road\, Gold Hill\, OR\, 97525
ATTACH;FMTTYPE=image/jpeg:https://www.ashlandjazz.com/wp-content/uploads/2026/01/IMG_4571-1.jpeg
END:VEVENT
BEGIN:VEVENT
DTSTART;TZID=America/Los_Angeles:20260913T180000
DTEND;TZID=America/Los_Angeles:20260913T200000
DTSTAMP:20260419T064958
CREATED:20260321T230719Z
LAST-MODIFIED:20260321T230719Z
UID:630-1789322400-1789329600@www.ashlandjazz.com
SUMMARY:TRES PALOMAS (Reservations Required)
DESCRIPTION:Tres Palomas plays Bossa Nova and international classics.
URL:https://www.ashlandjazz.com/event/tres-palomas-2026-09-13/
LOCATION:Butterfly Club 557\, 557 Medford Center\, Medford\, OR\, 97504\, United States
ATTACH;FMTTYPE=image/jpeg:https://www.ashlandjazz.com/wp-content/uploads/2026/01/IMG_4571-1.jpeg
END:VEVENT
BEGIN:VEVENT
DTSTART;TZID=America/Los_Angeles:20261011T170000
DTEND;TZID=America/Los_Angeles:20261011T190000
DTSTAMP:20260419T064958
CREATED:20260304T050658Z
LAST-MODIFIED:20260309T234936Z
UID:605-1791738000-1791745200@www.ashlandjazz.com
SUMMARY:TRES PALOMAS
DESCRIPTION:Tres Palomas plays Bossa Nova and international classics.
URL:https://www.ashlandjazz.com/event/tres-palomas-2025-10-11/
LOCATION:First Presbyterian Church\, Medford\, 85 South Holly Street\, Medford\, OR\, 97501
ATTACH;FMTTYPE=image/jpeg:https://www.ashlandjazz.com/wp-content/uploads/2026/01/IMG_4571-1.jpeg
END:VEVENT
END:VCALENDAR